BEGIN:VCALENDAR
VERSION:2.0
PRODID:-//Familienzentrum St. Thekla - ECPv6.15.20//NONSGML v1.0//EN
CALSCALE:GREGORIAN
METHOD:PUBLISH
X-WR-CALNAME:Familienzentrum St. Thekla
X-ORIGINAL-URL:https://kita-st-thekla.de
X-WR-CALDESC:Veranstaltungen für Familienzentrum St. Thekla
REFRESH-INTERVAL;VALUE=DURATION:PT1H
X-Robots-Tag:noindex
X-PUBLISHED-TTL:PT1H
BEGIN:VTIMEZONE
TZID:Europe/Berlin
BEGIN:DAYLIGHT
TZOFFSETFROM:+0100
TZOFFSETTO:+0200
TZNAME:CEST
DTSTART:20200329T010000
END:DAYLIGHT
BEGIN:STANDARD
TZOFFSETFROM:+0200
TZOFFSETTO:+0100
TZNAME:CET
DTSTART:20201025T010000
END:STANDARD
BEGIN:DAYLIGHT
TZOFFSETFROM:+0100
TZOFFSETTO:+0200
TZNAME:CEST
DTSTART:20210328T010000
END:DAYLIGHT
BEGIN:STANDARD
TZOFFSETFROM:+0200
TZOFFSETTO:+0100
TZNAME:CET
DTSTART:20211031T010000
END:STANDARD
BEGIN:DAYLIGHT
TZOFFSETFROM:+0100
TZOFFSETTO:+0200
TZNAME:CEST
DTSTART:20220327T010000
END:DAYLIGHT
BEGIN:STANDARD
TZOFFSETFROM:+0200
TZOFFSETTO:+0100
TZNAME:CET
DTSTART:20221030T010000
END:STANDARD
END:VTIMEZONE
BEGIN:VEVENT
DTSTART;TZID=Europe/Berlin:20211005T190000
DTEND;TZID=Europe/Berlin:20211005T203000
DTSTAMP:20260425T145900
CREATED:20220103T091237Z
LAST-MODIFIED:20220103T092632Z
UID:2825-1633460400-1633465800@kita-st-thekla.de
SUMMARY:Elterngespräch
DESCRIPTION:„All meine Gefühle gehören zu mir. Kinder in ihrer Gefühlswelt fördern“
URL:https://kita-st-thekla.de/event/elterngespraech/
CATEGORIES:Familienzentrum
END:VEVENT
END:VCALENDAR