BEGIN:VCALENDAR
VERSION:2.0
PRODID:-//Familienzentrum St. Thekla - ECPv6.15.20//NONSGML v1.0//EN
CALSCALE:GREGORIAN
METHOD:PUBLISH
X-ORIGINAL-URL:https://kita-st-thekla.de
X-WR-CALDESC:Veranstaltungen für Familienzentrum St. Thekla
REFRESH-INTERVAL;VALUE=DURATION:PT1H
X-Robots-Tag:noindex
X-PUBLISHED-TTL:PT1H
BEGIN:VTIMEZONE
TZID:Europe/Berlin
BEGIN:DAYLIGHT
TZOFFSETFROM:+0100
TZOFFSETTO:+0200
TZNAME:CEST
DTSTART:20230326T010000
END:DAYLIGHT
BEGIN:STANDARD
TZOFFSETFROM:+0200
TZOFFSETTO:+0100
TZNAME:CET
DTSTART:20231029T010000
END:STANDARD
BEGIN:DAYLIGHT
TZOFFSETFROM:+0100
TZOFFSETTO:+0200
TZNAME:CEST
DTSTART:20240331T010000
END:DAYLIGHT
BEGIN:STANDARD
TZOFFSETFROM:+0200
TZOFFSETTO:+0100
TZNAME:CET
DTSTART:20241027T010000
END:STANDARD
BEGIN:DAYLIGHT
TZOFFSETFROM:+0100
TZOFFSETTO:+0200
TZNAME:CEST
DTSTART:20250330T010000
END:DAYLIGHT
BEGIN:STANDARD
TZOFFSETFROM:+0200
TZOFFSETTO:+0100
TZNAME:CET
DTSTART:20251026T010000
END:STANDARD
END:VTIMEZONE
BEGIN:VEVENT
DTSTART;VALUE=DATE:20240924
DTEND;VALUE=DATE:20240925
DTSTAMP:20260422T123519
CREATED:20240905T120528Z
LAST-MODIFIED:20240905T120528Z
UID:3181-1727136000-1727222399@kita-st-thekla.de
SUMMARY:Der Fotograf kommt
DESCRIPTION:
URL:https://kita-st-thekla.de/event/der-fotograf-kommt-4/
END:VEVENT
BEGIN:VEVENT
DTSTART;TZID=Europe/Berlin:20240924T150000
DTEND;TZID=Europe/Berlin:20240924T180000
DTSTAMP:20260422T123519
CREATED:20240905T102542Z
LAST-MODIFIED:20240905T102542Z
UID:3125-1727190000-1727200800@kita-st-thekla.de
SUMMARY:Kochen für das 1. und 2. Schuljahr\, Anmeldung erforderlich
DESCRIPTION:
URL:https://kita-st-thekla.de/event/kochen-fuer-das-1-und-2-schuljahr-anmeldung-erforderlich/
CATEGORIES:Familienzentrum
END:VEVENT
END:VCALENDAR