BEGIN:VCALENDAR
VERSION:2.0
PRODID:-//Familienzentrum St. Thekla - ECPv6.15.20//NONSGML v1.0//EN
CALSCALE:GREGORIAN
METHOD:PUBLISH
X-ORIGINAL-URL:https://kita-st-thekla.de
X-WR-CALDESC:Veranstaltungen für Familienzentrum St. Thekla
REFRESH-INTERVAL;VALUE=DURATION:PT1H
X-Robots-Tag:noindex
X-PUBLISHED-TTL:PT1H
BEGIN:VTIMEZONE
TZID:Europe/Berlin
BEGIN:DAYLIGHT
TZOFFSETFROM:+0100
TZOFFSETTO:+0200
TZNAME:CEST
DTSTART:20250330T010000
END:DAYLIGHT
BEGIN:STANDARD
TZOFFSETFROM:+0200
TZOFFSETTO:+0100
TZNAME:CET
DTSTART:20251026T010000
END:STANDARD
BEGIN:DAYLIGHT
TZOFFSETFROM:+0100
TZOFFSETTO:+0200
TZNAME:CEST
DTSTART:20260329T010000
END:DAYLIGHT
BEGIN:STANDARD
TZOFFSETFROM:+0200
TZOFFSETTO:+0100
TZNAME:CET
DTSTART:20261025T010000
END:STANDARD
BEGIN:DAYLIGHT
TZOFFSETFROM:+0100
TZOFFSETTO:+0200
TZNAME:CEST
DTSTART:20270328T010000
END:DAYLIGHT
BEGIN:STANDARD
TZOFFSETFROM:+0200
TZOFFSETTO:+0100
TZNAME:CET
DTSTART:20271031T010000
END:STANDARD
BEGIN:DAYLIGHT
TZOFFSETFROM:+0100
TZOFFSETTO:+0200
TZNAME:CEST
DTSTART:20280326T010000
END:DAYLIGHT
BEGIN:STANDARD
TZOFFSETFROM:+0200
TZOFFSETTO:+0100
TZNAME:CET
DTSTART:20281029T010000
END:STANDARD
END:VTIMEZONE
BEGIN:VEVENT
DTSTART;TZID=Europe/Berlin:20260506T120000
DTEND;TZID=Europe/Berlin:20260506T120000
DTSTAMP:20260424T103948
CREATED:20250902T082257Z
LAST-MODIFIED:20250902T082257Z
UID:3259-1778068800-1778068800@kita-st-thekla.de
SUMMARY:Team
DESCRIPTION:Die Einrichtung schließt um 12 Uhr
URL:https://kita-st-thekla.de/event/team-24/
END:VEVENT
BEGIN:VEVENT
DTSTART;VALUE=DATE:20260515
DTEND;VALUE=DATE:20260516
DTSTAMP:20260424T103948
CREATED:20250902T082347Z
LAST-MODIFIED:20250902T082347Z
UID:3261-1778803200-1778889599@kita-st-thekla.de
SUMMARY:Brückentag Christi Himmelfahrt
DESCRIPTION:Bedarfsgruppe
URL:https://kita-st-thekla.de/event/brueckentag-christi-himmelfahrt/
END:VEVENT
BEGIN:VEVENT
DTSTART;VALUE=DATE:20260526
DTEND;VALUE=DATE:20260527
DTSTAMP:20260424T103948
CREATED:20250902T082441Z
LAST-MODIFIED:20250902T082441Z
UID:3263-1779753600-1779839999@kita-st-thekla.de
SUMMARY:Brückentag Pfingsten
DESCRIPTION:Bedarfsgruppe
URL:https://kita-st-thekla.de/event/brueckentag-pfingsten/
END:VEVENT
BEGIN:VEVENT
DTSTART;TZID=Europe/Berlin:20260602T140000
DTEND;TZID=Europe/Berlin:20260602T140000
DTSTAMP:20260424T103948
CREATED:20250902T082554Z
LAST-MODIFIED:20250902T082625Z
UID:3265-1780408800-1780408800@kita-st-thekla.de
SUMMARY:Team
DESCRIPTION:Ab 14 Uhr werden die Gruppen zusammengelegt
URL:https://kita-st-thekla.de/event/team-25/
END:VEVENT
BEGIN:VEVENT
DTSTART;VALUE=DATE:20260605
DTEND;VALUE=DATE:20260606
DTSTAMP:20260424T103948
CREATED:20250902T082803Z
LAST-MODIFIED:20250902T082803Z
UID:3267-1780617600-1780703999@kita-st-thekla.de
SUMMARY:Brückentag Fronleichnam
DESCRIPTION:Bedarfsgruppe
URL:https://kita-st-thekla.de/event/brueckentag-fronleichnam/
END:VEVENT
BEGIN:VEVENT
DTSTART;VALUE=DATE:20260613
DTEND;VALUE=DATE:20260614
DTSTAMP:20260424T103948
CREATED:20250902T082853Z
LAST-MODIFIED:20250902T085855Z
UID:3269-1781308800-1781395199@kita-st-thekla.de
SUMMARY:Sommerfest
DESCRIPTION:
URL:https://kita-st-thekla.de/event/sommerfest-3/
CATEGORIES:Familienzentrum,Kindertagesstätte
END:VEVENT
BEGIN:VEVENT
DTSTART;VALUE=DATE:20260624
DTEND;VALUE=DATE:20260625
DTSTAMP:20260424T103948
CREATED:20260120T143350Z
LAST-MODIFIED:20260120T143350Z
UID:3296-1782259200-1782345599@kita-st-thekla.de
SUMMARY:Betriebsausflug
DESCRIPTION:
URL:https://kita-st-thekla.de/event/betriebsausflug/
CATEGORIES:Familienzentrum,Kindertagesstätte
END:VEVENT
BEGIN:VEVENT
DTSTART;VALUE=DATE:20260702
DTEND;VALUE=DATE:20260703
DTSTAMP:20260424T103948
CREATED:20250902T083309Z
LAST-MODIFIED:20250902T090208Z
UID:3271-1782950400-1783036799@kita-st-thekla.de
SUMMARY:Abschlussfahrt der Regenbogenkinder
DESCRIPTION:
URL:https://kita-st-thekla.de/event/abschlussfahrt-der-regenbogenkinder-5/
CATEGORIES:Familienzentrum
END:VEVENT
BEGIN:VEVENT
DTSTART;VALUE=DATE:20260702
DTEND;VALUE=DATE:20260703
DTSTAMP:20260424T103948
CREATED:20250902T083425Z
LAST-MODIFIED:20250902T083425Z
UID:3273-1782950400-1783036799@kita-st-thekla.de
SUMMARY:Das Familienzentrum bleibt geschlossen
DESCRIPTION:
URL:https://kita-st-thekla.de/event/das-familienzentrum-bleibt-geschlossen-6/
CATEGORIES:Familienzentrum
END:VEVENT
BEGIN:VEVENT
DTSTART;TZID=Europe/Berlin:20260711T103000
DTEND;TZID=Europe/Berlin:20260711T103000
DTSTAMP:20260424T103948
CREATED:20250902T083525Z
LAST-MODIFIED:20250902T090142Z
UID:3275-1783765800-1783765800@kita-st-thekla.de
SUMMARY:Abschlussfeier der Regenbogenkinder
DESCRIPTION:
URL:https://kita-st-thekla.de/event/abschlussfeier-der-regenbogenkinder-5/
CATEGORIES:Familienzentrum
END:VEVENT
BEGIN:VEVENT
DTSTART;TZID=Europe/Berlin:20260807T120000
DTEND;TZID=Europe/Berlin:20260807T120000
DTSTAMP:20260424T103948
CREATED:20250902T083831Z
LAST-MODIFIED:20250902T090505Z
UID:3277-1786104000-1786104000@kita-st-thekla.de
SUMMARY:Die Einrichtung schließt um 12 Uhr
DESCRIPTION:
URL:https://kita-st-thekla.de/event/die-einrichtung-schliesst-um-12-uhr/
END:VEVENT
BEGIN:VEVENT
DTSTART;VALUE=DATE:20260810
DTEND;VALUE=DATE:20260831
DTSTAMP:20260424T103948
CREATED:20250902T084002Z
LAST-MODIFIED:20250902T084056Z
UID:3279-1786320000-1788134399@kita-st-thekla.de
SUMMARY:Sommerferien
DESCRIPTION:
URL:https://kita-st-thekla.de/event/sommerferien-5/
CATEGORIES:Familienzentrum,Kindertagesstätte
END:VEVENT
BEGIN:VEVENT
DTSTART;VALUE=DATE:20260831
DTEND;VALUE=DATE:20260901
DTSTAMP:20260424T103948
CREATED:20250902T084151Z
LAST-MODIFIED:20250902T084151Z
UID:3281-1788134400-1788220799@kita-st-thekla.de
SUMMARY:Konzeptionstag
DESCRIPTION:Die Einrichtung bleibt geschlossen
URL:https://kita-st-thekla.de/event/konzeptionstag-2/
END:VEVENT
BEGIN:VEVENT
DTSTART;TZID=Europe/Berlin:20261008T140000
DTEND;TZID=Europe/Berlin:20261008T140000
DTSTAMP:20260424T103948
CREATED:20250902T084301Z
LAST-MODIFIED:20250902T084301Z
UID:3283-1791468000-1791468000@kita-st-thekla.de
SUMMARY:Team
DESCRIPTION:Ab 14 Uhr werden die Gruppen zusammengelegt
URL:https://kita-st-thekla.de/event/team-26/
END:VEVENT
BEGIN:VEVENT
DTSTART;TZID=Europe/Berlin:20261104T120000
DTEND;TZID=Europe/Berlin:20261104T120000
DTSTAMP:20260424T103948
CREATED:20250902T084420Z
LAST-MODIFIED:20250902T084420Z
UID:3285-1793793600-1793793600@kita-st-thekla.de
SUMMARY:Team
DESCRIPTION:Die Einrichtung schließt um 12 Uhr
URL:https://kita-st-thekla.de/event/team-27/
END:VEVENT
BEGIN:VEVENT
DTSTART;VALUE=DATE:20261111
DTEND;VALUE=DATE:20261112
DTSTAMP:20260424T103948
CREATED:20250902T084527Z
LAST-MODIFIED:20250902T084527Z
UID:3288-1794355200-1794441599@kita-st-thekla.de
SUMMARY:St. Martin
DESCRIPTION:
URL:https://kita-st-thekla.de/event/st-martin-7/
END:VEVENT
BEGIN:VEVENT
DTSTART;VALUE=DATE:20261207
DTEND;VALUE=DATE:20261208
DTSTAMP:20260424T103948
CREATED:20250902T084607Z
LAST-MODIFIED:20250902T085821Z
UID:3290-1796601600-1796687999@kita-st-thekla.de
SUMMARY:Der Nikolaus besucht die Einrichtung
DESCRIPTION:
URL:https://kita-st-thekla.de/event/der-nikolaus-besucht-die-einrichtung-2/
CATEGORIES:Kindertagesstätte
END:VEVENT
BEGIN:VEVENT
DTSTART;TZID=Europe/Berlin:20261208T140000
DTEND;TZID=Europe/Berlin:20261208T140000
DTSTAMP:20260424T103948
CREATED:20250902T084716Z
LAST-MODIFIED:20250902T084736Z
UID:3292-1796738400-1796738400@kita-st-thekla.de
SUMMARY:Team
DESCRIPTION:Ab 14 Uhr werden die Gruppen zusammengelegt
URL:https://kita-st-thekla.de/event/team-28/
END:VEVENT
BEGIN:VEVENT
DTSTART;VALUE=DATE:20261223
DTEND;VALUE=DATE:20270102
DTSTAMP:20260424T103948
CREATED:20250902T084831Z
LAST-MODIFIED:20250902T084831Z
UID:3294-1797984000-1798847999@kita-st-thekla.de
SUMMARY:Weihnachtsferien
DESCRIPTION:
URL:https://kita-st-thekla.de/event/weihnachtsferien-5/
CATEGORIES:Familienzentrum,Kindertagesstätte
END:VEVENT
END:VCALENDAR