BEGIN:VCALENDAR
VERSION:2.0
PRODID:-//Familienzentrum St. Thekla - ECPv6.15.20//NONSGML v1.0//EN
CALSCALE:GREGORIAN
METHOD:PUBLISH
X-ORIGINAL-URL:https://kita-st-thekla.de
X-WR-CALDESC:Veranstaltungen für Familienzentrum St. Thekla
REFRESH-INTERVAL;VALUE=DURATION:PT1H
X-Robots-Tag:noindex
X-PUBLISHED-TTL:PT1H
BEGIN:VTIMEZONE
TZID:Europe/Berlin
BEGIN:DAYLIGHT
TZOFFSETFROM:+0100
TZOFFSETTO:+0200
TZNAME:CEST
DTSTART:20250330T010000
END:DAYLIGHT
BEGIN:STANDARD
TZOFFSETFROM:+0200
TZOFFSETTO:+0100
TZNAME:CET
DTSTART:20251026T010000
END:STANDARD
BEGIN:DAYLIGHT
TZOFFSETFROM:+0100
TZOFFSETTO:+0200
TZNAME:CEST
DTSTART:20260329T010000
END:DAYLIGHT
BEGIN:STANDARD
TZOFFSETFROM:+0200
TZOFFSETTO:+0100
TZNAME:CET
DTSTART:20261025T010000
END:STANDARD
BEGIN:DAYLIGHT
TZOFFSETFROM:+0100
TZOFFSETTO:+0200
TZNAME:CEST
DTSTART:20270328T010000
END:DAYLIGHT
BEGIN:STANDARD
TZOFFSETFROM:+0200
TZOFFSETTO:+0100
TZNAME:CET
DTSTART:20271031T010000
END:STANDARD
BEGIN:DAYLIGHT
TZOFFSETFROM:+0100
TZOFFSETTO:+0200
TZNAME:CEST
DTSTART:20280326T010000
END:DAYLIGHT
BEGIN:STANDARD
TZOFFSETFROM:+0200
TZOFFSETTO:+0100
TZNAME:CET
DTSTART:20281029T010000
END:STANDARD
END:VTIMEZONE
BEGIN:VEVENT
DTSTART;VALUE=DATE:20260831
DTEND;VALUE=DATE:20260901
DTSTAMP:20260424T121144
CREATED:20250902T084151Z
LAST-MODIFIED:20250902T084151Z
UID:3281-1788134400-1788220799@kita-st-thekla.de
SUMMARY:Konzeptionstag
DESCRIPTION:Die Einrichtung bleibt geschlossen
URL:https://kita-st-thekla.de/event/konzeptionstag-2/
END:VEVENT
BEGIN:VEVENT
DTSTART;TZID=Europe/Berlin:20261008T140000
DTEND;TZID=Europe/Berlin:20261008T140000
DTSTAMP:20260424T121144
CREATED:20250902T084301Z
LAST-MODIFIED:20250902T084301Z
UID:3283-1791468000-1791468000@kita-st-thekla.de
SUMMARY:Team
DESCRIPTION:Ab 14 Uhr werden die Gruppen zusammengelegt
URL:https://kita-st-thekla.de/event/team-26/
END:VEVENT
BEGIN:VEVENT
DTSTART;TZID=Europe/Berlin:20261104T120000
DTEND;TZID=Europe/Berlin:20261104T120000
DTSTAMP:20260424T121144
CREATED:20250902T084420Z
LAST-MODIFIED:20250902T084420Z
UID:3285-1793793600-1793793600@kita-st-thekla.de
SUMMARY:Team
DESCRIPTION:Die Einrichtung schließt um 12 Uhr
URL:https://kita-st-thekla.de/event/team-27/
END:VEVENT
BEGIN:VEVENT
DTSTART;VALUE=DATE:20261111
DTEND;VALUE=DATE:20261112
DTSTAMP:20260424T121144
CREATED:20250902T084527Z
LAST-MODIFIED:20250902T084527Z
UID:3288-1794355200-1794441599@kita-st-thekla.de
SUMMARY:St. Martin
DESCRIPTION:
URL:https://kita-st-thekla.de/event/st-martin-7/
END:VEVENT
BEGIN:VEVENT
DTSTART;VALUE=DATE:20261207
DTEND;VALUE=DATE:20261208
DTSTAMP:20260424T121144
CREATED:20250902T084607Z
LAST-MODIFIED:20250902T085821Z
UID:3290-1796601600-1796687999@kita-st-thekla.de
SUMMARY:Der Nikolaus besucht die Einrichtung
DESCRIPTION:
URL:https://kita-st-thekla.de/event/der-nikolaus-besucht-die-einrichtung-2/
CATEGORIES:Kindertagesstätte
END:VEVENT
BEGIN:VEVENT
DTSTART;TZID=Europe/Berlin:20261208T140000
DTEND;TZID=Europe/Berlin:20261208T140000
DTSTAMP:20260424T121144
CREATED:20250902T084716Z
LAST-MODIFIED:20250902T084736Z
UID:3292-1796738400-1796738400@kita-st-thekla.de
SUMMARY:Team
DESCRIPTION:Ab 14 Uhr werden die Gruppen zusammengelegt
URL:https://kita-st-thekla.de/event/team-28/
END:VEVENT
BEGIN:VEVENT
DTSTART;VALUE=DATE:20261223
DTEND;VALUE=DATE:20270102
DTSTAMP:20260424T121144
CREATED:20250902T084831Z
LAST-MODIFIED:20250902T084831Z
UID:3294-1797984000-1798847999@kita-st-thekla.de
SUMMARY:Weihnachtsferien
DESCRIPTION:
URL:https://kita-st-thekla.de/event/weihnachtsferien-5/
CATEGORIES:Familienzentrum,Kindertagesstätte
END:VEVENT
END:VCALENDAR